BEGIN:VCALENDAR
PRODID:-//PUBBLE//agenda//NL
VERSION:2.0
METHOD:PUBLISH
BEGIN:VEVENT
DTSTART:20251212T080000Z
DTEND:20251214T160000Z
DTSTAMP:20260424T163803Z
UID:61207154-c505-4cc5-9b8c-46b73507ffba
CREATED:20260424T163803Z
NAME:Vorstelijke Winterfair baarnschecourant.nl
X-WR-CALNAME:Vorstelijke Winterfair
X-ALT-DESC;FMTTYPE=text/html:<a href='/agenda/2025/12/12/vorstelijke-winterfair-1226196'>/agenda/2025/12/12/vorstelijke-winterfair-1226196</a> || <p>De Winterfair biedt een unieke mix van ondernemers met ambachtelijke producten, heerlijke lekkernijen en leuke cadeau-ideeën. Van handgemaakte kerstdecoraties tot ambachtelijk gebakken broden en van warme chocolademelk tot glühwein, er is voor ieder wat wils. De sfeervolle verlichting en de geur van dennengroen dragen bij aan de magische sfeer van het evenement. Naast de fair is er genoeg te doen voor jong en oud. Van poppen theater, optredens van koren en zelfs een heuse Bigband tot een bezoek aan de exposities in het Kasteel, er is altijd van alles te beleven. Kinderen kunnen hun hart ophalen in de speciale kinderhoek met activiteiten zoals schminken en het maken van kerstversieringen.</p>
DESCRIPTION:<a href='/agenda/2025/12/12/vorstelijke-winterfair-1226196'>/agenda/2025/12/12/vorstelijke-winterfair-1226196</a> || <p>De Winterfair biedt een unieke mix van ondernemers met ambachtelijke producten, heerlijke lekkernijen en leuke cadeau-ideeën. Van handgemaakte kerstdecoraties tot ambachtelijk gebakken broden en van warme chocolademelk tot glühwein, er is voor ieder wat wils. De sfeervolle verlichting en de geur van dennengroen dragen bij aan de magische sfeer van het evenement. Naast de fair is er genoeg te doen voor jong en oud. Van poppen theater, optredens van koren en zelfs een heuse Bigband tot een bezoek aan de exposities in het Kasteel, er is altijd van alles te beleven. Kinderen kunnen hun hart ophalen in de speciale kinderhoek met activiteiten zoals schminken en het maken van kerstversieringen.</p>
LAST-MODIFIED:20260424T163803Z
LOCATION: Kasteel Groeneveld | Groeneveld 1 Baarn
SEQUENCE:0
STATUS:CONFIRMED
SUMMARY:Vorstelijke Winterfair
TRANSP:OPAQUE
END:VEVENT
END:VCALENDAR
